BEGIN:VCALENDAR
VERSION:2.0
PRODID:-//Tukios.com/
BEGIN:VEVENT
UID:177737ff-ced5-44b0-8caf-1f740072ebfd@www.blackburnvernalmortuary.com
DTSTAMP:20260421T004853Z
DTSTART:20260502T180000Z
DTEND:20260502T190000Z
SUMMARY:Graveside Service
DESCRIPTION:
URL:https://www.blackburnvernalmortuary.com/obituaries/patsy-parry
LOCATION:Cedar View Cemetery 2385 West 4750  Roosevelt UT 84066
GEO:40.3707746;-110.0368726
END:VEVENT
END:VCALENDAR