BEGIN:VCALENDAR
VERSION:2.0
PRODID:-//Tukios.com/
BEGIN:VEVENT
UID:b95fc1f1-f1b2-4cb2-a93f-dbb82ec8da2a@www.blackburnvernalmortuary.com
DTSTAMP:20260421T213929Z
DTSTART:20260424T190000Z
DTEND:20260424T200000Z
SUMMARY:Memorial Service
DESCRIPTION:
URL:https://www.blackburnvernalmortuary.com/obituaries/cammie-thomas
LOCATION: 15 East 100 North  Vernal UT 84078
GEO:40.4574346;-109.5282187
END:VEVENT
END:VCALENDAR