BEGIN:VCALENDAR
VERSION:2.0
PRODID:-//Tukios.com/
BEGIN:VEVENT
UID:2547a484-71e9-437d-a5af-01fbc2dda49a@www.blackburnvernalmortuary.com
DTSTAMP:20260421T213634Z
DTSTART:20260424T190000Z
DTEND:20260424T200000Z
SUMMARY:Graveside Service
DESCRIPTION:
URL:https://www.blackburnvernalmortuary.com/obituaries/cammie-thomas
LOCATION: 2250 W 2500 N  Vernal UT 84078
GEO:40.4946093;-109.5730549
END:VEVENT
END:VCALENDAR